BEGIN:VCALENDAR
VERSION:2.0
PRODID:-//دار هن للنشر و التوزيع - ECPv6.15.20//NONSGML v1.0//EN
CALSCALE:GREGORIAN
METHOD:PUBLISH
X-ORIGINAL-URL:https://ellesegypte.com
X-WR-CALDESC:Events for دار هن للنشر و التوزيع
REFRESH-INTERVAL;VALUE=DURATION:PT1H
X-Robots-Tag:noindex
X-PUBLISHED-TTL:PT1H
BEGIN:VTIMEZONE
TZID:UTC
BEGIN:STANDARD
TZOFFSETFROM:+0000
TZOFFSETTO:+0000
TZNAME:UTC
DTSTART:20250101T000000
END:STANDARD
END:VTIMEZONE
BEGIN:VEVENT
DTSTART;TZID=UTC:20260420T180000
DTEND;TZID=UTC:20260420T200000
DTSTAMP:20260420T114339
CREATED:20260405T085244Z
LAST-MODIFIED:20260405T085251Z
UID:6091-1776708000-1776715200@ellesegypte.com
SUMMARY:نادي كتاب هن
DESCRIPTION:مناقشة كتاب “الهوية والاختلاف” عن متن جوديث بتلر وهامشها  تنظم دار هن جلسة جديدة من نادي كتاب هن لمناقشة كتاب “الهوية والاختلاف.. عن متن جوديث بتلر وهامشها”، الصادر عن الدار في يناير 2026. الكتاب من تحرير أمير زكي، ويأتي نتاجًا لترجمات وكتابات المشاركات والمشاركين في ورشة الترجمة النسوية الرابعة، التي أُقيمت بتيسير نوران المرصفي وأمير زكي، في إطار سعي الدار لدعم إنتاج المعرفة النسوية وترجمتها إلى العربية.
URL:https://ellesegypte.com/ar/calendars/%d9%86%d8%a7%d8%af%d9%8a-%d9%83%d8%aa%d8%a7%d8%a8-%d9%87%d9%86/
END:VEVENT
BEGIN:VEVENT
DTSTART;TZID=UTC:20260425T110000
DTEND;TZID=UTC:20260425T130000
DTSTAMP:20260420T114339
CREATED:20260405T085527Z
LAST-MODIFIED:20260405T085531Z
UID:6097-1777114800-1777122000@ellesegypte.com
SUMMARY:ماراثون هن للكتابة | شهر أبريل
DESCRIPTION:تستعد دار هن لتنظيم “ماراثون هن للكتابة” في مساحة مخصصة للتركيز والتدفق الإبداعي ضمن فعاليات الدار الثقافية. ينطلق الماراثون تحت مقولة الفيلسوف آلان باديو:“الكتابة عمل مؤلم بحاجة لصحبة”،ليمنح المشاركات والمشاركين فرصة للتخلص من حبسة الكتابة، والبدء في المشروعات المؤجلة، ومشاركة النصوص في أجواء داعمة وآمنة. ويتضمن الماراثون ساعات من الكتابة المتواصلة داخل هدوء دار هن المحفّز على التركيز، عبر فترات كتابة منظمة تتخللها جلسات قراءة تشاركية جماعية وتدريبات عملية.
URL:https://ellesegypte.com/ar/calendars/%d9%85%d8%a7%d8%b1%d8%a7%d8%ab%d9%88%d9%86-%d9%87%d9%86-%d9%84%d9%84%d9%83%d8%aa%d8%a7%d8%a8%d8%a9-%d8%b4%d9%87%d8%b1-%d8%a3%d8%a8%d8%b1%d9%8a%d9%84/
END:VEVENT
BEGIN:VEVENT
DTSTART;TZID=UTC:20260425T180000
DTEND;TZID=UTC:20260425T203000
DTSTAMP:20260420T114339
CREATED:20260405T085808Z
LAST-MODIFIED:20260405T085814Z
UID:6101-1777140000-1777149000@ellesegypte.com
SUMMARY: نادي كتاب هن 
DESCRIPTION:حفل توقيع ومناقشة كتاب “خلل ما عن الأمومة وأشياء أخرى” للكاتبة سمر مجدي تنظم دار هن فعالية جديدة ضمن نادي كتاب هن، تتضمن حفل توقيع ومناقشة كتاب “خلل ما عن الأمومة وأشياء أخرى” للكاتبة سمر مجدي، في إطار اهتمام الدار بدعم الكتابات النسوية المعاصرة وفتح مساحات للحوار حول التجارب الإنسانية. يتناول الكتاب تجربة الأمومة من منظور مختلف، حيث يطرح تساؤلات حول التعقيدات والمشاعر المتداخلة التي تصاحب هذه الرحلة. ومن المقرر أن تشهد الفعالية نقاشًا مفتوحًا مع الكاتبة حول الكتاب وتجربتها في الكتابة، إلى جانب توقيع نسخ للحضور، في أجواء تشجع على التفاعل وتبادل الخبرات.
URL:https://ellesegypte.com/ar/calendars/%d9%86%d8%a7%d8%af%d9%8a-%d9%83%d8%aa%d8%a7%d8%a8-%d9%87%d9%86-2/
END:VEVENT
END:VCALENDAR